BEGIN:VCALENDAR
VERSION:2.0
PRODID:-//East Region Adult Education - New - ECPv6.15.20//NONSGML v1.0//EN
CALSCALE:GREGORIAN
METHOD:PUBLISH
X-ORIGINAL-URL:https://adultedworks.org
X-WR-CALDESC:Events for East Region Adult Education - New
REFRESH-INTERVAL;VALUE=DURATION:PT1H
X-Robots-Tag:noindex
X-PUBLISHED-TTL:PT1H
BEGIN:VTIMEZONE
TZID:America/Los_Angeles
BEGIN:DAYLIGHT
TZOFFSETFROM:-0800
TZOFFSETTO:-0700
TZNAME:PDT
DTSTART:20210314T100000
END:DAYLIGHT
BEGIN:STANDARD
TZOFFSETFROM:-0700
TZOFFSETTO:-0800
TZNAME:PST
DTSTART:20211107T090000
END:STANDARD
BEGIN:DAYLIGHT
TZOFFSETFROM:-0800
TZOFFSETTO:-0700
TZNAME:PDT
DTSTART:20220313T100000
END:DAYLIGHT
BEGIN:STANDARD
TZOFFSETFROM:-0700
TZOFFSETTO:-0800
TZNAME:PST
DTSTART:20221106T090000
END:STANDARD
BEGIN:DAYLIGHT
TZOFFSETFROM:-0800
TZOFFSETTO:-0700
TZNAME:PDT
DTSTART:20230312T100000
END:DAYLIGHT
BEGIN:STANDARD
TZOFFSETFROM:-0700
TZOFFSETTO:-0800
TZNAME:PST
DTSTART:20231105T090000
END:STANDARD
BEGIN:DAYLIGHT
TZOFFSETFROM:-0800
TZOFFSETTO:-0700
TZNAME:PDT
DTSTART:20240310T100000
END:DAYLIGHT
BEGIN:STANDARD
TZOFFSETFROM:-0700
TZOFFSETTO:-0800
TZNAME:PST
DTSTART:20241103T090000
END:STANDARD
BEGIN:DAYLIGHT
TZOFFSETFROM:-0800
TZOFFSETTO:-0700
TZNAME:PDT
DTSTART:20250309T100000
END:DAYLIGHT
BEGIN:STANDARD
TZOFFSETFROM:-0700
TZOFFSETTO:-0800
TZNAME:PST
DTSTART:20251102T090000
END:STANDARD
END:VTIMEZONE
BEGIN:VTIMEZONE
TZID:UTC
BEGIN:STANDARD
TZOFFSETFROM:+0000
TZOFFSETTO:+0000
TZNAME:UTC
DTSTART:20180101T000000
END:STANDARD
END:VTIMEZONE
BEGIN:VEVENT
DTSTART;TZID=America/Los_Angeles:20240417T090000
DTEND;TZID=America/Los_Angeles:20240417T130000
DTSTAMP:20260425T084225
CREATED:20240227T233215Z
LAST-MODIFIED:20240227T233215Z
UID:4018-1713344400-1713358800@adultedworks.org
SUMMARY:Cuyamaca College Tour
DESCRIPTION:
URL:https://adultedworks.org/event/cuyamaca-college-tour/
LOCATION:Foothills Adult Center\, 1550 Melody Lane\, El Cajon\, CA\, 92019\, United States
END:VEVENT
BEGIN:VEVENT
DTSTART;TZID=America/Los_Angeles:20220809T090000
DTEND;TZID=America/Los_Angeles:20220809T220000
DTSTAMP:20260425T084225
CREATED:20220803T182903Z
LAST-MODIFIED:20220803T183701Z
UID:3419-1660035600-1660082400@adultedworks.org
SUMMARY:Earn and Learn - Culinary Arts
DESCRIPTION:Check out the flyer: Earn and Learn_Culinary class_Fall2022 \nStart earning right away! \nThe Culinary Arts and Hospitality class is for students who want to learn the fundamental culinary and customer service skills needed to work in San Diego’s hospitality and tourism industry. This Earn and Learn program provides a PAID culinary position WHILE you take the class! \n  \n\nFull-time employment benefits (Aug 23 – Dec 15\, Monday – Friday\, 8am – 5pm)\nDaily shuttle from Foothills Adult Center to Viejas Casino and back\nSupport with textbook\, course and employment fees\nMaster classes with executive chefs\nOpportunities for promotion upon completion of the course\n\nRegister HERE for the FREE Orientation.
URL:https://adultedworks.org/event/earn-and-learn-culinary-arts/
LOCATION:CA
END:VEVENT
BEGIN:VEVENT
DTSTART;TZID=America/Los_Angeles:20220808T080000
DTEND;TZID=America/Los_Angeles:20220819T170000
DTSTAMP:20260425T084225
CREATED:20220803T182523Z
LAST-MODIFIED:20220803T182523Z
UID:3416-1659945600-1660928400@adultedworks.org
SUMMARY:Flores Financial Virtual Job Fair
DESCRIPTION:Event Date: August 25th Time: 4pm-6pm \nOpen Registration Starts: August 8th\, 2022 \nRegistration Deadline: August 19th\, 2022 \nPositions \n\nAccounting Associates\nHR/Payroll Administrators\nHR Coordinators\nJunior Associates\n\nBenefits \n\nBasic life\nMedical & dental insurance\nEducation & employee assistance program\nFlexible work schedule & remote work policy\nHoliday & birthday pay\nVacation pay\, sick leave and more\n\nTo Register\, Email: niki@flores-financial.com or call our Job Line at (619) 873-9415
URL:https://adultedworks.org/event/flores-financial-virtual-job-fair/
LOCATION:CA
END:VEVENT
BEGIN:VEVENT
DTSTART;TZID=America/Los_Angeles:20220519T150000
DTEND;TZID=America/Los_Angeles:20220519T190000
DTSTAMP:20260425T084225
CREATED:20220413T155513Z
LAST-MODIFIED:20220517T164319Z
UID:3364-1652972400-1652986800@adultedworks.org
SUMMARY:East Region Career & Education Expo
DESCRIPTION:
URL:https://adultedworks.org/event/east-region-career-expo/
LOCATION:Cuyamaca College\, 900 Rancho San Diego Parkway\, El Cajon\, CA\, 92020\, United States
END:VEVENT
BEGIN:VEVENT
DTSTART;TZID=America/Los_Angeles:20220420T090000
DTEND;TZID=America/Los_Angeles:20220420T120000
DTSTAMP:20260425T084225
CREATED:20220413T154559Z
LAST-MODIFIED:20220413T155914Z
UID:3356-1650445200-1650456000@adultedworks.org
SUMMARY:Cuyamaca College Campus Tour
DESCRIPTION:
URL:https://adultedworks.org/event/cuyamaca-college-campus-tour/
LOCATION:Cuyamaca College\, 900 Rancho San Diego Parkway\, El Cajon\, CA\, 92020\, United States
END:VEVENT
BEGIN:VEVENT
DTSTART;TZID=UTC:20210728T130000
DTEND;TZID=UTC:20210728T160000
DTSTAMP:20260425T084225
CREATED:20210722T051550Z
LAST-MODIFIED:20210722T051550Z
UID:3248-1627477200-1627488000@adultedworks.org
SUMMARY:Viejas Security Hiring Event
DESCRIPTION:
URL:https://adultedworks.org/event/viejas-security-hiring-event/
LOCATION:Viejas\, 5003 Willows Road\, Alpine\, CA\, 91901
ATTACH;FMTTYPE=application/pdf:https://adultedworks.org/wp-content/uploads/2021/07/Viejas-Security-Hiring-Event-1.pdf
END:VEVENT
BEGIN:VEVENT
DTSTART;TZID=UTC:20201021T130000
DTEND;TZID=UTC:20201021T143000
DTSTAMP:20260425T084225
CREATED:20201001T225724Z
LAST-MODIFIED:20201002T000758Z
UID:2906-1603285200-1603290600@adultedworks.org
SUMMARY:Career and Education Fair
DESCRIPTION:We are excited to announce our upcoming Virtual Career and Education Fair on Wednesday\, October 21st from 1:00 PM- 2:30 PM. Last year’s fairs were successful\, gaining exposure for GAE with 50 local and regional businesses\, 14 college programs\, and more than 300 attendees. We hope to continue the momentum\, albeit virtually. \nAs before\, we are combining Career and College Fairs into one event. To foster meaningful interactions that lead to solid connections\, we will pair participants and attendees into industry specific break-out rooms. Each room will have a panel of hiring managers\, college partners\, and training providers representing:  \n\n\n\n\n\nConstruction and Trades\n\n\n\n\nMedical \n\n\n\n\n\n\nFinance and Administrative\n\n\n\n\nHospitality and Security\n\n\n\n\n\n\nAutomotive \n\n\n\n\nSchool Districts\n\n\n\n\n\n  \nHow it works: \n  \n\nOctober 19 – Registrants can preview short employer\, education and training program videos and other materials that highlight opportunities\, benefits\, and skills needed for success. Registrants will have access to these materials 24/7.\nOctober 20 – Business Engagement and Transition Services will facilitate virtual work readiness workshops to prepare students to speak with employers\, education and training programs at the event. \nOctober 21.- The live Virtual Career and Education Fair will happen via Zoom.\n\nGrossmont Adult Education will present career training\, basic skills\, and language programs that connect students to their goals. \nGrossmont and Cuyamaca College representatives will share CE and degree options\, financial aid and student support programs.\n\n\nAfter the event\, employers and programs will be able to connect with students and job seekers and post their opportunities and hiring events via ERAE’s job board. \n\nThis event is free and a great opportunity! Students can register here.  \n   \nFor any questions\, please contact Nikki Middleton at nmiddleton@guhsd.net.
URL:https://adultedworks.org/event/career-and-education-fair/
LOCATION:CA
END:VEVENT
BEGIN:VEVENT
DTSTART;TZID=UTC:20200909T113000
DTEND;TZID=UTC:20200909T130000
DTSTAMP:20260425T084225
CREATED:20200908T222718Z
LAST-MODIFIED:20200908T222718Z
UID:2769-1599651000-1599656400@adultedworks.org
SUMMARY:Consortium Governing Board Meeting
DESCRIPTION:Regular meeting – open to the public
URL:https://adultedworks.org/event/consortium-governing-board-meeting/
LOCATION:CA
END:VEVENT
BEGIN:VEVENT
DTSTART;TZID=UTC:20200624T090000
DTEND;TZID=UTC:20200624T103000
DTSTAMP:20260425T084225
CREATED:20200506T021644Z
LAST-MODIFIED:20200506T021644Z
UID:2741-1592989200-1592994600@adultedworks.org
SUMMARY:ERAE Leadership Council
DESCRIPTION:
URL:https://adultedworks.org/event/erae-leadership-council-2/
LOCATION:CA
END:VEVENT
BEGIN:VEVENT
DTSTART;TZID=UTC:20200528T140000
DTEND;TZID=UTC:20200528T150000
DTSTAMP:20260425T084225
CREATED:20200506T015855Z
LAST-MODIFIED:20200506T015855Z
UID:2738-1590674400-1590678000@adultedworks.org
SUMMARY:Transition Services Virtual Forum
DESCRIPTION:To register go to https://forms.gle/iwrUj36q7AaTq46z8 \nWant to learn how to: \n\nwrite an eye catching resume?\nsucceed in college?\nfind and apply for jobs?\npay for college?\nplan out the steps to a career?\ninterview well?\n\nParticipate in any or all topics that interest you… \n\nThursday\, May 28 at 2 PM- job search tips\n\nTo register go to https://forms.gle/iwrUj36q7AaTq46z8
URL:https://adultedworks.org/event/transition-services-virtual-forum-4/
LOCATION:CA
END:VEVENT
BEGIN:VEVENT
DTSTART;TZID=UTC:20200526T110000
DTEND;TZID=UTC:20200526T120000
DTSTAMP:20260425T084225
CREATED:20200506T015738Z
LAST-MODIFIED:20200506T015738Z
UID:2736-1590490800-1590494400@adultedworks.org
SUMMARY:Transition Services Forum
DESCRIPTION:To register go to https://forms.gle/iwrUj36q7AaTq46z8 \nWant to learn how to: \n\nwrite an eye catching resume?\nsucceed in college?\nfind and apply for jobs?\npay for college?\nplan out the steps to a career?\ninterview well?\n\nParticipate in any or all topics that interest you… \n\n\nTuesday\, May 26 at 11 AM- pay for college\nThursday\, May 28 at 2 PM- job search tips\n\nTo register go to https://forms.gle/iwrUj36q7AaTq46z8
URL:https://adultedworks.org/event/transition-services-forum/
LOCATION:CA
END:VEVENT
BEGIN:VEVENT
DTSTART;TZID=UTC:20200521T140000
DTEND;TZID=UTC:20200521T150000
DTSTAMP:20260425T084225
CREATED:20200506T015621Z
LAST-MODIFIED:20200506T015621Z
UID:2732-1590069600-1590073200@adultedworks.org
SUMMARY:Transition Services Virtual Forum
DESCRIPTION:To register go to https://forms.gle/iwrUj36q7AaTq46z8 \nWant to learn how to: \n\nwrite an eye catching resume?\nsucceed in college?\nfind and apply for jobs?\npay for college?\nplan out the steps to a career?\ninterview well?\n\nParticipate in any or all topics that interest you… \n\nThursday\, May 21 at 2 PM- resume writing\nTuesday\, May 26 at 11 AM- pay for college\nThursday\, May 28 at 2 PM- job search tips\n\nTo register go to https://forms.gle/iwrUj36q7AaTq46z8
URL:https://adultedworks.org/event/transition-services-virtual-forum-3/
LOCATION:CA
END:VEVENT
BEGIN:VEVENT
DTSTART;TZID=UTC:20200519T154500
DTEND;TZID=UTC:20200519T171500
DTSTAMP:20260425T084225
CREATED:20200506T012154Z
LAST-MODIFIED:20200506T012154Z
UID:2712-1589903100-1589908500@adultedworks.org
SUMMARY:Strategic Plan Workgroup Meeting
DESCRIPTION:Monthly convening. Agenda items to consider for our May meeting: \n\nIdentify new co-chairs and workgroup members (recruit faculty from colleges and MEUSD)\nAlign work of PLC\, curriculum writing group\, strategic plan work groups to achieve consistency\n\nHow do we (in these workgroups) support PLCs and curriculum writing group(s)?\nHow do we revise the curriculum to align with/meet the needs of the six paths identified in the strategic plan?\nHow do we design all classes with “the end in mind?”\nHow do we integrate work-based learning in (almost) all classes?\n\n\nDevelop one general and differentiated orientations for different student cohorts and based on common entrance points (i.e.\, transition services).\nMake transition services an “opt out service.”\nStrengthen articulation/transition to college through connecting with faculty who have moved fully to Canvas.\nDevelop a work flow chart for professional learning. (What will the monthly PL day look like?)\nEngage/re-engage business partners (also) with offering new classes (if needed). Explore volunteer and internship opportunities that could lead into employment (when we are able to move into a new normal). Align curriculum with business needs.\n\nPlease note: With the start of the new school year\, PLCs and Strategic Plan workgroups will alternate meetings. That is\, workgroups will meet every other month. When planning for our last meetings for this year (May 19 and tentatively June 16)\, you might want to take that into consideration.
URL:https://adultedworks.org/event/strategic-plan-workgroup-meeting/
LOCATION:CA
END:VEVENT
BEGIN:VEVENT
DTSTART;TZID=UTC:20200519T110000
DTEND;TZID=UTC:20200519T120000
DTSTAMP:20260425T084225
CREATED:20200506T015511Z
LAST-MODIFIED:20200506T015511Z
UID:2730-1589886000-1589889600@adultedworks.org
SUMMARY:Transition Services Virtual Forum
DESCRIPTION:To register go to https://forms.gle/iwrUj36q7AaTq46z8 \nWant to learn how to: \n\nwrite an eye catching resume?\nsucceed in college?\nfind and apply for jobs?\npay for college?\nplan out the steps to a career?\ninterview well?\n\nParticipate in any or all topics that interest you… \n\nTuesday\, May 19 at 11 AM – map your career path\nThursday\, May 21 at 2 PM- resume writing\nTuesday\, May 26 at 11 AM- pay for college\nThursday\, May 28 at 2 PM- job search tips\n\nTo register go to https://forms.gle/iwrUj36q7AaTq46z8
URL:https://adultedworks.org/event/transition-services-virtual-forum-2/
LOCATION:CA
END:VEVENT
BEGIN:VEVENT
DTSTART;TZID=UTC:20200514T140000
DTEND;TZID=UTC:20200514T150000
DTSTAMP:20260425T084225
CREATED:20200506T014855Z
LAST-MODIFIED:20200506T015131Z
UID:2724-1589464800-1589468400@adultedworks.org
SUMMARY:Transition Services Virtual Student Forum
DESCRIPTION:Want to learn how to: \n\nwrite an eye catching resume?\nsucceed in college?\nfind and apply for jobs?\npay for college?\nplan out the steps to a career?\ninterview well?\n\nTo register go to https://forms.gle/iwrUj36q7AaTq46z8 \nParticipate in any or all topics that interest you… \n\nTuesday\, May 12 at 11 AM – college success\nThursday\, May 14 at 2 PM- practice interview skills\nTuesday\, May 19 at 11 AM – map your career path\nThursday\, May 21 at 2 PM- resume writing\nTuesday\, May 26 at 11 AM- pay for college\nThursday\, May 28 at 2 PM- job search tips\n\nTo register go to https://forms.gle/iwrUj36q7AaTq46z8
URL:https://adultedworks.org/event/transition-services-virtual-student-forum/
LOCATION:CA
END:VEVENT
BEGIN:VEVENT
DTSTART;TZID=UTC:20200512T110000
DTEND;TZID=UTC:20200512T120000
DTSTAMP:20260425T084225
CREATED:20200506T014658Z
LAST-MODIFIED:20200506T015257Z
UID:2721-1589281200-1589284800@adultedworks.org
SUMMARY:Transition Services Virtual Forum
DESCRIPTION:To register go to https://forms.gle/iwrUj36q7AaTq46z8 \nWant to learn how to: \n\nwrite an eye catching resume?\nsucceed in college?\nfind and apply for jobs?\npay for college?\nplan out the steps to a career?\ninterview well?\n\nParticipate in any or all topics that interest you… \n\nTuesday\, May 12 at 11 AM – college success\nThursday\, May 14 at 2 PM- practice interview skills\nTuesday\, May 19 at 11 AM – map your career path\nThursday\, May 21 at 2 PM- resume writing\nTuesday\, May 26 at 11 AM- pay for college\nThursday\, May 28 at 2 PM- job search tips\n\nTo register go to https://forms.gle/iwrUj36q7AaTq46z8
URL:https://adultedworks.org/event/transition-services-virtual-forum/
LOCATION:CA
END:VEVENT
BEGIN:VEVENT
DTSTART;TZID=UTC:20200505T154500
DTEND;TZID=UTC:20200505T171500
DTSTAMP:20260425T084225
CREATED:20200506T012429Z
LAST-MODIFIED:20200506T012429Z
UID:2715-1588693500-1588698900@adultedworks.org
SUMMARY:GAE Leadership meeting
DESCRIPTION:
URL:https://adultedworks.org/event/gae-leadership-meeting/
LOCATION:CA
END:VEVENT
BEGIN:VEVENT
DTSTART;TZID=UTC:20200429T090000
DTEND;TZID=UTC:20200429T103000
DTSTAMP:20260425T084225
CREATED:20200506T012755Z
LAST-MODIFIED:20200506T012959Z
UID:2717-1588150800-1588156200@adultedworks.org
SUMMARY:ERAE Leadership Council
DESCRIPTION:Meeting for Consortium Directors and CAEP manager \n 
URL:https://adultedworks.org/event/erae-leadership-council/
LOCATION:CA
END:VEVENT
BEGIN:VEVENT
DTSTART;TZID=UTC:20200415T093000
DTEND;TZID=UTC:20200415T110000
DTSTAMP:20260425T084225
CREATED:20200409T210700Z
LAST-MODIFIED:20200409T210700Z
UID:2618-1586943000-1586948400@adultedworks.org
SUMMARY:Governing Board Meeting
DESCRIPTION:Please join us virtually. The agenda can be found here.
URL:https://adultedworks.org/event/governing-board-meeting-8/
LOCATION:CA
END:VEVENT
BEGIN:VEVENT
DTSTART;VALUE=DATE:20191125
DTEND;VALUE=DATE:20191130
DTSTAMP:20260425T084225
CREATED:20190805T223321Z
LAST-MODIFIED:20190805T223321Z
UID:2406-1574640000-1575071999@adultedworks.org
SUMMARY:Thanksgiving Break (No Classes)
DESCRIPTION:
URL:https://adultedworks.org/event/thanksgiving-break-no-classes/
LOCATION:CA
END:VEVENT
BEGIN:VEVENT
DTSTART;VALUE=DATE:20191111
DTEND;VALUE=DATE:20191112
DTSTAMP:20260425T084225
CREATED:20190805T223130Z
LAST-MODIFIED:20190805T223130Z
UID:2404-1573430400-1573516799@adultedworks.org
SUMMARY:Veterans Day (No Classes)
DESCRIPTION:
URL:https://adultedworks.org/event/veterans-day-no-classes/
LOCATION:CA
END:VEVENT
BEGIN:VEVENT
DTSTART;TZID=UTC:20191107T130000
DTEND;TZID=UTC:20191107T170000
DTSTAMP:20260425T084225
CREATED:20191009T223333Z
LAST-MODIFIED:20191009T223333Z
UID:2482-1573131600-1573146000@adultedworks.org
SUMMARY:Cuyamaca College Counselor
DESCRIPTION:Meet with a Counselor from Cuyamaca College to discuss possible plans for your future!
URL:https://adultedworks.org/event/cuyamaca-college-counselor-8/
LOCATION:Foothills Adult Center\, 1550 Melody Lane\, El Cajon\, CA\, 92019\, United States
END:VEVENT
BEGIN:VEVENT
DTSTART;TZID=UTC:20191105T080000
DTEND;TZID=UTC:20191105T170000
DTSTAMP:20260425T084225
CREATED:20191009T223723Z
LAST-MODIFIED:20191009T223723Z
UID:2490-1572940800-1572973200@adultedworks.org
SUMMARY:Grossmont College Counselor
DESCRIPTION:Come meet with a counselor from Grossmont College about different paths you can take!
URL:https://adultedworks.org/event/grossmont-college-counselor-6/
LOCATION:Foothills Adult Center\, 1550 Melody Lane\, El Cajon\, CA\, 92019\, United States
END:VEVENT
BEGIN:VEVENT
DTSTART;TZID=UTC:20191104T130000
DTEND;TZID=UTC:20191104T150000
DTSTAMP:20260425T084225
CREATED:20191009T224235Z
LAST-MODIFIED:20191009T224255Z
UID:2498-1572872400-1572879600@adultedworks.org
SUMMARY:Career Opportunities & Employment Workshop
DESCRIPTION:
URL:https://adultedworks.org/event/career-opportunities-employment-workshop-4/
LOCATION:Foothills Adult Center\, 1550 Melody Lane\, El Cajon\, CA\, 92019\, United States
END:VEVENT
BEGIN:VEVENT
DTSTART;TZID=UTC:20191031T130000
DTEND;TZID=UTC:20191031T170000
DTSTAMP:20260425T084225
CREATED:20191009T223235Z
LAST-MODIFIED:20191009T223254Z
UID:2480-1572526800-1572541200@adultedworks.org
SUMMARY:Cuyamaca College Counselor
DESCRIPTION:Meet with a Counselor from Cuyamaca College to discuss possible plans for your future!
URL:https://adultedworks.org/event/cuyamaca-college-counselor-7/
LOCATION:Foothills Adult Center\, 1550 Melody Lane\, El Cajon\, CA\, 92019\, United States
END:VEVENT
BEGIN:VEVENT
DTSTART;TZID=UTC:20191031T120000
DTEND;TZID=UTC:20191031T140000
DTSTAMP:20260425T084225
CREATED:20191009T224734Z
LAST-MODIFIED:20191009T224734Z
UID:2505-1572523200-1572530400@adultedworks.org
SUMMARY:Resume Workshop
DESCRIPTION:Have us take a look at your Resume to see what can be improved before you head in to your next interview!
URL:https://adultedworks.org/event/resume-workshop/
LOCATION:Foothills Adult Center\, 1550 Melody Lane\, El Cajon\, CA\, 92019\, United States
END:VEVENT
BEGIN:VEVENT
DTSTART;TZID=UTC:20191028T130000
DTEND;TZID=UTC:20191028T150000
DTSTAMP:20260425T084225
CREATED:20191009T224137Z
LAST-MODIFIED:20191009T224155Z
UID:2496-1572267600-1572274800@adultedworks.org
SUMMARY:Career Opportunities & Employment Workshop
DESCRIPTION:
URL:https://adultedworks.org/event/career-opportunities-employment-workshop-3/
LOCATION:Foothills Adult Center\, 1550 Melody Lane\, El Cajon\, CA\, 92019\, United States
END:VEVENT
BEGIN:VEVENT
DTSTART;TZID=UTC:20191028T090000
DTEND;TZID=UTC:20191028T180000
DTSTAMP:20260425T084225
CREATED:20191009T223626Z
LAST-MODIFIED:20191009T223649Z
UID:2488-1572253200-1572285600@adultedworks.org
SUMMARY:Grossmont College Counselor
DESCRIPTION:Come meet with a counselor from Grossmont College about different paths you can take!
URL:https://adultedworks.org/event/grossmont-college-counselor-5/
LOCATION:Foothills Adult Center\, 1550 Melody Lane\, El Cajon\, CA\, 92019\, United States
END:VEVENT
BEGIN:VEVENT
DTSTART;TZID=UTC:20191024T130000
DTEND;TZID=UTC:20191024T170000
DTSTAMP:20260425T084225
CREATED:20191009T223111Z
LAST-MODIFIED:20191009T223111Z
UID:2476-1571922000-1571936400@adultedworks.org
SUMMARY:Cuyamaca College Counselor
DESCRIPTION:Meet with a Counselor from Cuyamaca College to discuss possible plans for your future!
URL:https://adultedworks.org/event/cuyamaca-college-counselor-5/
LOCATION:Foothills Adult Center\, 1550 Melody Lane\, El Cajon\, CA\, 92019\, United States
END:VEVENT
BEGIN:VEVENT
DTSTART;TZID=UTC:20191023T120000
DTEND;TZID=UTC:20191023T140000
DTSTAMP:20260425T084225
CREATED:20191009T224534Z
LAST-MODIFIED:20191009T224605Z
UID:2502-1571832000-1571839200@adultedworks.org
SUMMARY:Mock Interview Workshop
DESCRIPTION:Test your interview skills with industry professionals to get you ready to take on the workplace!
URL:https://adultedworks.org/event/mock-interview-workshop-2/
LOCATION:Foothills Adult Center\, 1550 Melody Lane\, El Cajon\, CA\, 92019\, United States
END:VEVENT
END:VCALENDAR