BEGIN:VCALENDAR
VERSION:2.0
PRODID:-//East Region Adult Education - New - ECPv6.15.20//NONSGML v1.0//EN
CALSCALE:GREGORIAN
METHOD:PUBLISH
X-WR-CALNAME:East Region Adult Education - New
X-ORIGINAL-URL:https://adultedworks.org
X-WR-CALDESC:Events for East Region Adult Education - New
REFRESH-INTERVAL;VALUE=DURATION:PT1H
X-Robots-Tag:noindex
X-PUBLISHED-TTL:PT1H
BEGIN:VTIMEZONE
TZID:UTC
BEGIN:STANDARD
TZOFFSETFROM:+0000
TZOFFSETTO:+0000
TZNAME:UTC
DTSTART:20170101T000000
END:STANDARD
END:VTIMEZONE
BEGIN:VEVENT
DTSTART;TZID=UTC:20190916T130000
DTEND;TZID=UTC:20190916T150000
DTSTAMP:20260425T152411
CREATED:20190916T223337Z
LAST-MODIFIED:20190916T223337Z
UID:2429-1568638800-1568646000@adultedworks.org
SUMMARY:Career Opportunities and Employment Services Workshop
DESCRIPTION:
URL:https://adultedworks.org/event/career-opportunities-and-employment-services-workshop/
LOCATION:Foothills Adult Center\, 1550 Melody Lane\, El Cajon\, CA\, 92019\, United States
END:VEVENT
BEGIN:VEVENT
DTSTART;VALUE=DATE:20190902
DTEND;VALUE=DATE:20190903
DTSTAMP:20260425T152411
CREATED:20190805T222817Z
LAST-MODIFIED:20190805T222817Z
UID:2400-1567382400-1567468799@adultedworks.org
SUMMARY:Labor Day(No Classes)
DESCRIPTION:
URL:https://adultedworks.org/event/labor-dayno-classes/
END:VEVENT
BEGIN:VEVENT
DTSTART;VALUE=DATE:20190819
DTEND;VALUE=DATE:20190820
DTSTAMP:20260425T152411
CREATED:20190805T222521Z
LAST-MODIFIED:20190805T222521Z
UID:2398-1566172800-1566259199@adultedworks.org
SUMMARY:First Day of Term
DESCRIPTION:
URL:https://adultedworks.org/event/first-day-of-term/
END:VEVENT
BEGIN:VEVENT
DTSTART;VALUE=DATE:20190604
DTEND;VALUE=DATE:20190605
DTSTAMP:20260425T152411
CREATED:20181008T072424Z
LAST-MODIFIED:20181008T072424Z
UID:1973-1559606400-1559692799@adultedworks.org
SUMMARY:Grossmont Adult Education Graduation
DESCRIPTION:
URL:https://adultedworks.org/event/grossmont-adult-education-graduation/
LOCATION:Foothills Adult Center\, 1550 Melody Lane\, El Cajon\, CA\, 92019\, United States
END:VEVENT
BEGIN:VEVENT
DTSTART;TZID=UTC:20190530T130000
DTEND;TZID=UTC:20190530T143000
DTSTAMP:20260425T152411
CREATED:20190529T210138Z
LAST-MODIFIED:20190529T210340Z
UID:2351-1559221200-1559226600@adultedworks.org
SUMMARY:Governing Board Meeting
DESCRIPTION:Join us for the public section of the board meeting. We will be discussing the next Three-Year Plan.
URL:https://adultedworks.org/event/governing-board-meeting-7/
LOCATION:Foothills Adult Center\, 1550 Melody Lane\, El Cajon\, CA\, 92019\, United States
END:VEVENT
BEGIN:VEVENT
DTSTART;VALUE=DATE:20190527
DTEND;VALUE=DATE:20190528
DTSTAMP:20260425T152411
CREATED:20181008T075258Z
LAST-MODIFIED:20181008T075258Z
UID:1983-1558915200-1559001599@adultedworks.org
SUMMARY:Memorial Day - No Classes
DESCRIPTION:
URL:https://adultedworks.org/event/memorial-day-no-classes/
LOCATION:Foothills Adult Center\, 1550 Melody Lane\, El Cajon\, CA\, 92019\, United States
END:VEVENT
BEGIN:VEVENT
DTSTART;VALUE=DATE:20190419
DTEND;VALUE=DATE:20190420
DTSTAMP:20260425T152411
CREATED:20181008T075118Z
LAST-MODIFIED:20181008T075118Z
UID:1981-1555632000-1555718399@adultedworks.org
SUMMARY:Good Friday/Passover Begins - No Classes
DESCRIPTION:
URL:https://adultedworks.org/event/good-friday-passover-begins-no-classes/
LOCATION:Foothills Adult Center\, 1550 Melody Lane\, El Cajon\, CA\, 92019\, United States
END:VEVENT
BEGIN:VEVENT
DTSTART;TZID=UTC:20190404T100000
DTEND;TZID=UTC:20190404T150000
DTSTAMP:20260425T152411
CREATED:20190212T092635Z
LAST-MODIFIED:20190212T092635Z
UID:2230-1554372000-1554390000@adultedworks.org
SUMMARY:East Region Apprenticeship Fair
DESCRIPTION:
URL:https://adultedworks.org/event/east-region-apprenticeship-fair/
LOCATION:Foothills Adult Center\, 1550 Melody Lane\, El Cajon\, CA\, 92019\, United States
END:VEVENT
BEGIN:VEVENT
DTSTART;VALUE=DATE:20190218
DTEND;VALUE=DATE:20190219
DTSTAMP:20260425T152411
CREATED:20181008T073721Z
LAST-MODIFIED:20181008T073721Z
UID:1977-1550448000-1550534399@adultedworks.org
SUMMARY:Presidents' Day - No Classes
DESCRIPTION:
URL:https://adultedworks.org/event/presidents-day-no-classes/
LOCATION:Foothills Adult Center\, 1550 Melody Lane\, El Cajon\, CA\, 92019\, United States
END:VEVENT
BEGIN:VEVENT
DTSTART;VALUE=DATE:20190215
DTEND;VALUE=DATE:20190216
DTSTAMP:20260425T152411
CREATED:20181008T074154Z
LAST-MODIFIED:20181008T074154Z
UID:1979-1550188800-1550275199@adultedworks.org
SUMMARY:Susan B. Anthony Day - No Classes
DESCRIPTION:
URL:https://adultedworks.org/event/susan-b-anthony-day-no-classes/
LOCATION:Foothills Adult Center\, 1550 Melody Lane\, El Cajon\, CA\, 92019\, United States
END:VEVENT
BEGIN:VEVENT
DTSTART;VALUE=DATE:20190122
DTEND;VALUE=DATE:20190126
DTSTAMP:20260425T152411
CREATED:20181008T080406Z
LAST-MODIFIED:20181008T081024Z
UID:1985-1548115200-1548460799@adultedworks.org
SUMMARY:Staff Professional Development Week
DESCRIPTION:
URL:https://adultedworks.org/event/staff-professional-development-week/
LOCATION:Foothills Adult Center\, 1550 Melody Lane\, El Cajon\, CA\, 92019\, United States
END:VEVENT
BEGIN:VEVENT
DTSTART;VALUE=DATE:20190121
DTEND;VALUE=DATE:20190122
DTSTAMP:20260425T152411
CREATED:20180827T115709Z
LAST-MODIFIED:20180827T115709Z
UID:1955-1548028800-1548115199@adultedworks.org
SUMMARY:Martin Luther King. Jr. Day - No Classes
DESCRIPTION:
URL:https://adultedworks.org/event/martin-luther-king-jr-day-no-classes/
END:VEVENT
BEGIN:VEVENT
DTSTART;VALUE=DATE:20190107
DTEND;VALUE=DATE:20190119
DTSTAMP:20260425T152411
CREATED:20181122T104031Z
LAST-MODIFIED:20181122T104056Z
UID:2019-1546819200-1547855999@adultedworks.org
SUMMARY:Grossmont Adult Education Intercession
DESCRIPTION:
URL:https://adultedworks.org/event/grossmont-adult-education-intercession/
LOCATION:Foothills Adult Center\, 1550 Melody Lane\, El Cajon\, CA\, 92019\, United States
END:VEVENT
BEGIN:VEVENT
DTSTART;VALUE=DATE:20181231
DTEND;VALUE=DATE:20190102
DTSTAMP:20260425T152411
CREATED:20180827T115430Z
LAST-MODIFIED:20180827T115430Z
UID:1953-1546214400-1546387199@adultedworks.org
SUMMARY:New Year's Eve and Day - No Classes
DESCRIPTION:
URL:https://adultedworks.org/event/new-years-eve-and-day-no-classes/
END:VEVENT
BEGIN:VEVENT
DTSTART;VALUE=DATE:20181224
DTEND;VALUE=DATE:20181227
DTSTAMP:20260425T152411
CREATED:20180827T115912Z
LAST-MODIFIED:20180827T115912Z
UID:1957-1545609600-1545868799@adultedworks.org
SUMMARY:Winter Break - No Classes
DESCRIPTION:
URL:https://adultedworks.org/event/winter-break-no-classes/
END:VEVENT
BEGIN:VEVENT
DTSTART;TZID=UTC:20181218T130000
DTEND;TZID=UTC:20181218T143000
DTSTAMP:20260425T152411
CREATED:20180106T065009Z
LAST-MODIFIED:20181029T091351Z
UID:1350-1545138000-1545143400@adultedworks.org
SUMMARY:Governing Board Meeting
DESCRIPTION:
URL:https://adultedworks.org/event/governing-board-meeting-4/
LOCATION:Grossmont College\, 8800 Grossmont College Drive\, El Cajon\, CA\, 92020\, United States
END:VEVENT
BEGIN:VEVENT
DTSTART;VALUE=DATE:20181217
DTEND;VALUE=DATE:20190105
DTSTAMP:20260425T152411
CREATED:20181112T110228Z
LAST-MODIFIED:20181112T110248Z
UID:2015-1545004800-1546646399@adultedworks.org
SUMMARY:District Break
DESCRIPTION:
URL:https://adultedworks.org/event/district-break/
END:VEVENT
BEGIN:VEVENT
DTSTART;VALUE=DATE:20181203
DTEND;VALUE=DATE:20190128
DTSTAMP:20260425T152411
CREATED:20181126T102800Z
LAST-MODIFIED:20181126T102800Z
UID:2022-1543795200-1548633599@adultedworks.org
SUMMARY:Spring Registration Opens
DESCRIPTION:
URL:https://adultedworks.org/event/spring-registration-opens/
LOCATION:Foothills Adult Center\, 1550 Melody Lane\, El Cajon\, CA\, 92019\, United States
END:VEVENT
BEGIN:VEVENT
DTSTART;VALUE=DATE:20181122
DTEND;VALUE=DATE:20190107
DTSTAMP:20260425T152411
CREATED:20181122T103835Z
LAST-MODIFIED:20181122T103835Z
UID:2017-1542844800-1546819199@adultedworks.org
SUMMARY:Grossmont Adult Education Intercession Registration
DESCRIPTION:
URL:https://adultedworks.org/event/grossmont-adult-education-intercession-registration/
LOCATION:Foothills Adult Center\, 1550 Melody Lane\, El Cajon\, CA\, 92019\, United States
END:VEVENT
BEGIN:VEVENT
DTSTART;VALUE=DATE:20181122
DTEND;VALUE=DATE:20181124
DTSTAMP:20260425T152411
CREATED:20180827T114818Z
LAST-MODIFIED:20180827T114818Z
UID:1951-1542844800-1543017599@adultedworks.org
SUMMARY:Thanksgiving - No Classes
DESCRIPTION:
URL:https://adultedworks.org/event/thanksgiving-no-classes/
END:VEVENT
BEGIN:VEVENT
DTSTART;VALUE=DATE:20181113
DTEND;VALUE=DATE:20181117
DTSTAMP:20260425T152411
CREATED:20181015T102415Z
LAST-MODIFIED:20181015T102415Z
UID:1988-1542067200-1542412799@adultedworks.org
SUMMARY:Health Occupations Center Entry Screening Testing
DESCRIPTION:
URL:https://adultedworks.org/event/health-occupations-center-entry-screening-testing/
LOCATION:Health Occupations Center\, 9368 Oakbourne Road\, Santee\, CA\, 92071\, United States
END:VEVENT
BEGIN:VEVENT
DTSTART;VALUE=DATE:20181112
DTEND;VALUE=DATE:20181113
DTSTAMP:20260425T152411
CREATED:20180827T114541Z
LAST-MODIFIED:20180827T114541Z
UID:1949-1541980800-1542067199@adultedworks.org
SUMMARY:Veterans Day (Observed) - No Classes
DESCRIPTION:
URL:https://adultedworks.org/event/veterans-day-observed-no-classes/
END:VEVENT
BEGIN:VEVENT
DTSTART;VALUE=DATE:20181106
DTEND;VALUE=DATE:20181109
DTSTAMP:20260425T152411
CREATED:20180723T105412Z
LAST-MODIFIED:20180723T105412Z
UID:1910-1541462400-1541721599@adultedworks.org
SUMMARY:Health Occupations Center Orientation Week
DESCRIPTION:
URL:https://adultedworks.org/event/health-occupations-center-orientation-week/
LOCATION:Health Occupations Center\, 9368 Oakbourne Road\, Santee\, CA\, 92071\, United States
END:VEVENT
BEGIN:VEVENT
DTSTART;TZID=UTC:20181103T090000
DTEND;TZID=UTC:20181103T130000
DTSTAMP:20260425T152411
CREATED:20181015T104009Z
LAST-MODIFIED:20181015T104009Z
UID:1990-1541235600-1541250000@adultedworks.org
SUMMARY:Career Training EXPO
DESCRIPTION:
URL:https://adultedworks.org/event/career-training-expo/
LOCATION:Foothills Adult Center\, 1550 Melody Lane\, El Cajon\, CA\, 92019\, United States
END:VEVENT
BEGIN:VEVENT
DTSTART;VALUE=DATE:20181024
DTEND;VALUE=DATE:20181207
DTSTAMP:20260425T152411
CREATED:20181029T095741Z
LAST-MODIFIED:20181029T095741Z
UID:1996-1540339200-1544140799@adultedworks.org
SUMMARY:Health Occupations Center Holiday Drive
DESCRIPTION:Please join us by donating new toys\, toiletries\, blankets\, toys\, and non-perishable food items from October 24 to December 6\, 2018!
URL:https://adultedworks.org/event/health-occupations-center-holiday-drive/
LOCATION:Health Occupations Center\, 9368 Oakbourne Road\, Santee\, CA\, 92071\, United States
END:VEVENT
BEGIN:VEVENT
DTSTART;TZID=UTC:20181016T110000
DTEND;TZID=UTC:20181016T170000
DTSTAMP:20260425T152411
CREATED:20180917T103207Z
LAST-MODIFIED:20180917T103207Z
UID:1964-1539687600-1539709200@adultedworks.org
SUMMARY:American Red Cross Blood Drive at the Health Occupations Center
DESCRIPTION:
URL:https://adultedworks.org/event/american-red-cross-blood-drive-at-the-health-occupations-center/
LOCATION:Health Occupations Center\, 9368 Oakbourne Road\, Santee\, CA\, 92071\, United States
END:VEVENT
BEGIN:VEVENT
DTSTART;VALUE=DATE:20181015
DTEND;VALUE=DATE:20181016
DTSTAMP:20260425T152411
CREATED:20180827T113328Z
LAST-MODIFIED:20180827T113328Z
UID:1945-1539561600-1539647999@adultedworks.org
SUMMARY:Second Session Fall 2018 Career Technical Education Classes Begin
DESCRIPTION:
URL:https://adultedworks.org/event/second-session-fall-2018-career-technical-education-classes-begin/
LOCATION:Foothills Adult Center\, 1550 Melody Lane\, El Cajon\, CA\, 92019\, United States
END:VEVENT
BEGIN:VEVENT
DTSTART;VALUE=DATE:20181015
DTEND;VALUE=DATE:20181016
DTSTAMP:20260425T152411
CREATED:20180827T113141Z
LAST-MODIFIED:20180827T113141Z
UID:1943-1539561600-1539647999@adultedworks.org
SUMMARY:Second Session Fall 2018 Lifelong Learning Classes Begin
DESCRIPTION:
URL:https://adultedworks.org/event/second-session-fall-2018-lifelong-learning-classes-begin/
LOCATION:Foothills Adult Center\, 1550 Melody Lane\, El Cajon\, CA\, 92019\, United States
END:VEVENT
BEGIN:VEVENT
DTSTART;VALUE=DATE:20181013
DTEND;VALUE=DATE:20181014
DTSTAMP:20260425T152411
CREATED:20180723T102108Z
LAST-MODIFIED:20180723T104137Z
UID:1899-1539388800-1539475199@adultedworks.org
SUMMARY:Community Super Saturday
DESCRIPTION:
URL:https://adultedworks.org/event/community-super-saturday-3/
LOCATION:Foothills Adult Center\, 1550 Melody Lane\, El Cajon\, CA\, 92019\, United States
END:VEVENT
BEGIN:VEVENT
DTSTART;TZID=UTC:20181010T100000
DTEND;TZID=UTC:20181010T130000
DTSTAMP:20260425T152411
CREATED:20180910T100551Z
LAST-MODIFIED:20180910T100551Z
UID:1959-1539165600-1539176400@adultedworks.org
SUMMARY:Grossmont College Career Expo
DESCRIPTION:
URL:https://adultedworks.org/event/grossmont-college-career-expo/
LOCATION:Grossmont College\, 8800 Grossmont College Drive\, El Cajon\, CA\, 92020\, United States
END:VEVENT
END:VCALENDAR