BEGIN:VCALENDAR
VERSION:2.0
PRODID:-//East Region Adult Education - New - ECPv6.15.20//NONSGML v1.0//EN
CALSCALE:GREGORIAN
METHOD:PUBLISH
X-WR-CALNAME:East Region Adult Education - New
X-ORIGINAL-URL:https://adultedworks.org
X-WR-CALDESC:Events for East Region Adult Education - New
REFRESH-INTERVAL;VALUE=DURATION:PT1H
X-Robots-Tag:noindex
X-PUBLISHED-TTL:PT1H
BEGIN:VTIMEZONE
TZID:UTC
BEGIN:STANDARD
TZOFFSETFROM:+0000
TZOFFSETTO:+0000
TZNAME:UTC
DTSTART:20160101T000000
END:STANDARD
END:VTIMEZONE
BEGIN:VEVENT
DTSTART;VALUE=DATE:20180716
DTEND;VALUE=DATE:20180821
DTSTAMP:20260425T200638
CREATED:20180723T102851Z
LAST-MODIFIED:20180723T105503Z
UID:1901-1531699200-1534809599@adultedworks.org
SUMMARY:Fall Registration for Lifelong Learning Education Classes
DESCRIPTION:
URL:https://adultedworks.org/event/fall-lifelong-learning-education-classes-registration-begins/
LOCATION:Foothills Adult Center\, 1550 Melody Lane\, El Cajon\, CA\, 92019\, United States
END:VEVENT
BEGIN:VEVENT
DTSTART;VALUE=DATE:20180716
DTEND;VALUE=DATE:20180821
DTSTAMP:20260425T200638
CREATED:20180723T103039Z
LAST-MODIFIED:20180723T104101Z
UID:1904-1531699200-1534809599@adultedworks.org
SUMMARY:Fall Registration for Career Technical Education Classes
DESCRIPTION:
URL:https://adultedworks.org/event/fall-career-technical-education-registration/
LOCATION:Foothills Adult Center\, 1550 Melody Lane\, El Cajon\, CA\, 92019\, United States
END:VEVENT
BEGIN:VEVENT
DTSTART;VALUE=DATE:20180716
DTEND;VALUE=DATE:20180717
DTSTAMP:20260425T200638
CREATED:20180709T092202Z
LAST-MODIFIED:20180709T092239Z
UID:1839-1531699200-1531785599@adultedworks.org
SUMMARY:Fall Registration for Lifelong Education and Career Classes
DESCRIPTION:
URL:https://adultedworks.org/event/fall-lifelong-education-and-career-class-registration/
LOCATION:Foothills Adult Center\, 1550 Melody Lane\, El Cajon\, CA\, 92019\, United States
END:VEVENT
BEGIN:VEVENT
DTSTART;TZID=UTC:20180714T090000
DTEND;TZID=UTC:20180714T153000
DTSTAMP:20260425T200638
CREATED:20180702T092805Z
LAST-MODIFIED:20180702T092805Z
UID:1835-1531558800-1531582200@adultedworks.org
SUMMARY:Community Super Saturday
DESCRIPTION:
URL:https://adultedworks.org/event/community-super-saturday-2/
LOCATION:Foothills Adult Center\, 1550 Melody Lane\, El Cajon\, CA\, 92019\, United States
END:VEVENT
BEGIN:VEVENT
DTSTART;VALUE=DATE:20180709
DTEND;VALUE=DATE:20180714
DTSTAMP:20260425T200638
CREATED:20180709T093203Z
LAST-MODIFIED:20180709T093259Z
UID:1842-1531094400-1531526399@adultedworks.org
SUMMARY:Fall Registration for the Health Occupations Center
DESCRIPTION:
URL:https://adultedworks.org/event/fall-registration-for-the-health-occupations-center/
LOCATION:Health Occupations Center\, 9368 Oakbourne Road\, Santee\, CA\, 92071\, United States
END:VEVENT
BEGIN:VEVENT
DTSTART;VALUE=DATE:20180702
DTEND;VALUE=DATE:20180703
DTSTAMP:20260425T200638
CREATED:20180521T092320Z
LAST-MODIFIED:20180521T092320Z
UID:1691-1530489600-1530575999@adultedworks.org
SUMMARY:Grossmont Adult Education Summer Classes Begin
DESCRIPTION:
URL:https://adultedworks.org/event/grossmont-adult-education-summer-classes-begin/
LOCATION:CA
END:VEVENT
BEGIN:VEVENT
DTSTART;TZID=UTC:20180620T110000
DTEND;TZID=UTC:20180620T123000
DTSTAMP:20260425T200638
CREATED:20180106T064505Z
LAST-MODIFIED:20180615T232855Z
UID:1344-1529492400-1529497800@adultedworks.org
SUMMARY:Governing Board Meeting - Canceled
DESCRIPTION:
URL:https://adultedworks.org/event/governing-board-meeting-2/
LOCATION:Cuyamaca College\, 900 Rancho San Diego Parkway\, El Cajon\, CA\, 92020\, United States
END:VEVENT
BEGIN:VEVENT
DTSTART;TZID=UTC:20180616T080000
DTEND;TZID=UTC:20180616T100000
DTSTAMP:20260425T200638
CREATED:20180611T092624Z
LAST-MODIFIED:20180611T092649Z
UID:1770-1529136000-1529143200@adultedworks.org
SUMMARY:Summer ESL Registration
DESCRIPTION:
URL:https://adultedworks.org/event/summer-esl-registration/
LOCATION:Foothills Adult Center\, 1550 Melody Lane\, El Cajon\, CA\, 92019\, United States
END:VEVENT
BEGIN:VEVENT
DTSTART;VALUE=DATE:20180612
DTEND;VALUE=DATE:20180615
DTSTAMP:20260425T200638
CREATED:20180521T092730Z
LAST-MODIFIED:20180521T092952Z
UID:1693-1528761600-1529020799@adultedworks.org
SUMMARY:Health Occupations Center Orientation Week
DESCRIPTION:
URL:https://adultedworks.org/event/health-occupation-center-orientation-week/
LOCATION:Health Occupations Center\, 9368 Oakbourne Road\, Santee\, CA\, 92071\, United States
END:VEVENT
BEGIN:VEVENT
DTSTART;VALUE=DATE:20180604
DTEND;VALUE=DATE:20180703
DTSTAMP:20260425T200638
CREATED:20180521T092153Z
LAST-MODIFIED:20180521T092153Z
UID:1689-1528070400-1530575999@adultedworks.org
SUMMARY:Grossmont Adult Education Summer Class Registration
DESCRIPTION:
URL:https://adultedworks.org/event/grossmont-adult-education-summer-class-registration/
LOCATION:CA
END:VEVENT
BEGIN:VEVENT
DTSTART;TZID=UTC:20180427T093000
DTEND;TZID=UTC:20180427T110000
DTSTAMP:20260425T200638
CREATED:20180420T202357Z
LAST-MODIFIED:20180420T202357Z
UID:1651-1524821400-1524826800@adultedworks.org
SUMMARY:ERAE2020 Steering Committee Meeting
DESCRIPTION:First meeting of the East Region Adult Education’s Steering Committee – the leadership body for the development of the ERAE 2020 Strategic Plan and the work of ERAE’s task forces and work groups.
URL:https://adultedworks.org/event/erae2020-steering-committee-meeting/
LOCATION:Foothills Adult Center\, 1550 Melody Lane\, El Cajon\, CA\, 92019\, United States
END:VEVENT
BEGIN:VEVENT
DTSTART;TZID=UTC:20180418T093000
DTEND;TZID=UTC:20180418T110000
DTSTAMP:20260425T200638
CREATED:20180414T051018Z
LAST-MODIFIED:20180414T051018Z
UID:1616-1524043800-1524049200@adultedworks.org
SUMMARY:Governing Board Meeting
DESCRIPTION:ERAE Governing Board Meeting Agenda 4-18-18 \nBylaws 4-18-18
URL:https://adultedworks.org/event/governing-board-meeting-5/
LOCATION:Foothills Adult Center\, 1550 Melody Lane\, El Cajon\, CA\, 92019\, United States
END:VEVENT
BEGIN:VEVENT
DTSTART;TZID=UTC:20180414T100000
DTEND;TZID=UTC:20180414T130000
DTSTAMP:20260425T200638
CREATED:20180226T080742Z
LAST-MODIFIED:20180226T080851Z
UID:1467-1523700000-1523710800@adultedworks.org
SUMMARY:Adult Education Street Fair
DESCRIPTION:
URL:https://adultedworks.org/event/adult-education-street-fair/
LOCATION:Foothills Adult Center\, 1550 Melody Lane\, El Cajon\, CA\, 92019\, United States
END:VEVENT
BEGIN:VEVENT
DTSTART;TZID=UTC:20180411T160000
DTEND;TZID=UTC:20180411T173000
DTSTAMP:20260425T200638
CREATED:20180410T071641Z
LAST-MODIFIED:20180410T071641Z
UID:1602-1523462400-1523467800@adultedworks.org
SUMMARY:Career Training Showcase
DESCRIPTION:
URL:https://adultedworks.org/event/career-training-showcase/
LOCATION:IDEA Center High School\, 1600 Cuyamaca Street\, El Cajon\, California\, 92020
END:VEVENT
BEGIN:VEVENT
DTSTART;VALUE=DATE:20180409
DTEND;VALUE=DATE:20180414
DTSTAMP:20260425T200638
CREATED:20180227T130405Z
LAST-MODIFIED:20180227T130405Z
UID:1480-1523232000-1523663999@adultedworks.org
SUMMARY:Adult Education Week
DESCRIPTION:
URL:https://adultedworks.org/event/adult-education-week/
LOCATION:CA
END:VEVENT
BEGIN:VEVENT
DTSTART;TZID=UTC:20180323T090000
DTEND;TZID=UTC:20180323T113000
DTSTAMP:20260425T200638
CREATED:20180226T082208Z
LAST-MODIFIED:20180226T082208Z
UID:1469-1521795600-1521804600@adultedworks.org
SUMMARY:East Region Adult Education 2020
DESCRIPTION:
URL:https://adultedworks.org/event/east-region-adult-education-2020/
LOCATION:Foothills Adult Center\, 1550 Melody Lane\, El Cajon\, CA\, 92019\, United States
END:VEVENT
BEGIN:VEVENT
DTSTART;TZID=UTC:20180315T130000
DTEND;TZID=UTC:20180315T143000
DTSTAMP:20260425T200638
CREATED:20180106T064112Z
LAST-MODIFIED:20180309T072235Z
UID:1341-1521118800-1521124200@adultedworks.org
SUMMARY:Governing Board Meeting - CANCELLATION
DESCRIPTION:Unfortunately and due to circumstances outside of our control\, this meeting has been cancelled. The meeting will be re-scheduled for another time. Please check back for the update.
URL:https://adultedworks.org/event/governing-board-meeting/
LOCATION:Health Occupations Center\, 9368 Oakbourne Road\, Santee\, CA\, 92071\, United States
END:VEVENT
BEGIN:VEVENT
DTSTART;VALUE=DATE:20180303
DTEND;VALUE=DATE:20180304
DTSTAMP:20260425T200638
CREATED:20180215T044557Z
LAST-MODIFIED:20180215T044622Z
UID:1408-1520035200-1520121599@adultedworks.org
SUMMARY:Community Super Saturday
DESCRIPTION:
URL:https://adultedworks.org/event/community-super-saturday/
LOCATION:Foothills Adult Center\, 1550 Melody Lane\, El Cajon\, CA\, 92019\, United States
END:VEVENT
BEGIN:VEVENT
DTSTART;TZID=UTC:20180206T140000
DTEND;TZID=UTC:20180206T153000
DTSTAMP:20260425T200638
CREATED:20180205T094446Z
LAST-MODIFIED:20180205T094446Z
UID:1387-1517925600-1517931000@adultedworks.org
SUMMARY:Chancellor's Colloquia
DESCRIPTION:
URL:https://adultedworks.org/event/chancellors-colloquia-3/
LOCATION:Grossmont College\, 8800 Grossmont College Drive\, El Cajon\, CA\, 92020\, United States
END:VEVENT
BEGIN:VEVENT
DTSTART;TZID=UTC:20180206T100000
DTEND;TZID=UTC:20180206T233000
DTSTAMP:20260425T200638
CREATED:20180205T093513Z
LAST-MODIFIED:20180205T093513Z
UID:1382-1517911200-1517959800@adultedworks.org
SUMMARY:Chancellor's Colloquia
DESCRIPTION:
URL:https://adultedworks.org/event/chancellors-colloquia-2/
LOCATION:Grossmont College\, 8800 Grossmont College Drive\, El Cajon\, CA\, 92020\, United States
END:VEVENT
BEGIN:VEVENT
DTSTART;TZID=UTC:20180205T140000
DTEND;TZID=UTC:20180205T153000
DTSTAMP:20260425T200638
CREATED:20180205T091457Z
LAST-MODIFIED:20180205T091457Z
UID:1380-1517839200-1517844600@adultedworks.org
SUMMARY:Chancellor's Colloquia
DESCRIPTION:
URL:https://adultedworks.org/event/chancellors-colloquia/
LOCATION:Cuyamaca College\, 900 Rancho San Diego Parkway\, El Cajon\, CA\, 92020\, United States
END:VEVENT
BEGIN:VEVENT
DTSTART;TZID=UTC:20180126T100000
DTEND;TZID=UTC:20180126T103000
DTSTAMP:20260425T200638
CREATED:20180106T063044Z
LAST-MODIFIED:20180106T063237Z
UID:1335-1516960800-1516962600@adultedworks.org
SUMMARY:PAC Medical Careers Meeting
DESCRIPTION:The meeting will be held at the Health Science building (B 34)\, conference room (225).
URL:https://adultedworks.org/event/pac-medical-careers-meeting/
LOCATION:Grossmont College\, 8800 Grossmont College Drive\, El Cajon\, CA\, 92020\, United States
END:VEVENT
BEGIN:VEVENT
DTSTART;TZID=UTC:20180125T100000
DTEND;TZID=UTC:20180125T120000
DTSTAMP:20260425T200638
CREATED:20180106T062353Z
LAST-MODIFIED:20180106T063131Z
UID:1265-1516874400-1516881600@adultedworks.org
SUMMARY:Program Area Council - Chairs' Meeting
DESCRIPTION:PAC leads will discuss strategies for 2018.
URL:https://adultedworks.org/event/program-area-council-chairs-meeting/
LOCATION:Foothills Adult Center\, 1550 Melody Lane\, El Cajon\, CA\, 92019\, United States
END:VEVENT
BEGIN:VEVENT
DTSTART;TZID=UTC:20180122T080000
DTEND;TZID=UTC:20180123T123000
DTSTAMP:20260425T200638
CREATED:20180106T063522Z
LAST-MODIFIED:20180106T063522Z
UID:1337-1516608000-1516710600@adultedworks.org
SUMMARY:Adult Education Block Grant Third Annual Summit 2018
DESCRIPTION:“Together Towards Tomorrow” \nThe AEBG 2018 Summit: “Together Towards Tomorrow” will feature presentations\, panel discussions\, networking\, and the sharing of best practices focusing on working creatively and collaboratively to help ensure that California’s adult education students are well prepared for employment and/or further education.
URL:https://adultedworks.org/event/adult-education-block-grant-third-annual-summit-2018/
LOCATION:Hilton Los Angeles\, 555 Universal Hollywood Dr\, Universal City\, CA\, 91608\, United States
END:VEVENT
BEGIN:VEVENT
DTSTART;TZID=UTC:20171114T130000
DTEND;TZID=UTC:20171114T150000
DTSTAMP:20260425T200638
CREATED:20170216T040852Z
LAST-MODIFIED:20180106T063836Z
UID:297-1510664400-1510671600@adultedworks.org
SUMMARY:Governing Board Meeting
DESCRIPTION:
URL:https://adultedworks.org/event/governing-board-meeting-at-grossmont-college/
LOCATION:Grossmont College\, 8800 Grossmont College Drive\, El Cajon\, CA\, 92020\, United States
END:VEVENT
BEGIN:VEVENT
DTSTART;TZID=UTC:20171020T083000
DTEND;TZID=UTC:20171020T120000
DTSTAMP:20260425T200638
CREATED:20170830T230523Z
LAST-MODIFIED:20170830T230523Z
UID:1181-1508488200-1508500800@adultedworks.org
SUMMARY:2nd Annual Stakeholder Meeting
DESCRIPTION:
URL:https://adultedworks.org/event/2nd-annual-stakeholder-meeting/
LOCATION:CA
END:VEVENT
BEGIN:VEVENT
DTSTART;VALUE=DATE:20170829
DTEND;VALUE=DATE:20170830
DTSTAMP:20260425T200638
CREATED:20170216T040826Z
LAST-MODIFIED:20170216T040826Z
UID:295-1503964800-1504051199@adultedworks.org
SUMMARY:Governing Board Meeting (at GUHSD)
DESCRIPTION:
URL:https://adultedworks.org/event/governing-board-meeting-at-guhsd/
LOCATION:CA
END:VEVENT
BEGIN:VEVENT
DTSTART;VALUE=DATE:20170512
DTEND;VALUE=DATE:20170513
DTSTAMP:20260425T200638
CREATED:20170216T040708Z
LAST-MODIFIED:20170216T040708Z
UID:289-1494547200-1494633599@adultedworks.org
SUMMARY:Apprenticeship Fair (at Grossmont College)
DESCRIPTION:
URL:https://adultedworks.org/event/apprenticeship-fair-at-grossmont-college/
LOCATION:CA
END:VEVENT
BEGIN:VEVENT
DTSTART;TZID=UTC:20170501T010000
DTEND;TZID=UTC:20170501T023000
DTSTAMP:20260425T200638
CREATED:20170216T040742Z
LAST-MODIFIED:20170426T215654Z
UID:291-1493600400-1493605800@adultedworks.org
SUMMARY:Instructional Senate Meeting
DESCRIPTION:We will discuss action steps with Cuyamaca College faculty and staff.
URL:https://adultedworks.org/event/stakeholder-meeting-taking-stock-and-moving-forward/
LOCATION:CA
END:VEVENT
BEGIN:VEVENT
DTSTART;VALUE=DATE:20170425
DTEND;VALUE=DATE:20170426
DTSTAMP:20260425T200638
CREATED:20170216T040644Z
LAST-MODIFIED:20170216T040644Z
UID:287-1493078400-1493164799@adultedworks.org
SUMMARY:Governing Board Meeting (at Mountain Empire USD)
DESCRIPTION:
URL:https://adultedworks.org/event/governing-board-meeting-at-mountain-empire-usd/
LOCATION:CA
END:VEVENT
END:VCALENDAR